BEGIN:VCALENDAR
VERSION:2.0
PRODID:-//Dream Spirit Cheer - ECPv6.15.20//NONSGML v1.0//EN
CALSCALE:GREGORIAN
METHOD:PUBLISH
X-WR-CALNAME:Dream Spirit Cheer
X-ORIGINAL-URL:https://dreamspiritcheer.com
X-WR-CALDESC:Events for Dream Spirit Cheer
REFRESH-INTERVAL;VALUE=DURATION:PT1H
X-Robots-Tag:noindex
X-PUBLISHED-TTL:PT1H
BEGIN:VTIMEZONE
TZID:UTC
BEGIN:STANDARD
TZOFFSETFROM:+0000
TZOFFSETTO:+0000
TZNAME:UTC
DTSTART:20250101T000000
END:STANDARD
END:VTIMEZONE
BEGIN:VEVENT
DTSTART;TZID=UTC:20260507T173000
DTEND;TZID=UTC:20260528T183000
DTSTAMP:20260425T033036
CREATED:20260403T205817Z
LAST-MODIFIED:20260403T205822Z
UID:10000045-1778175000-1779993000@dreamspiritcheer.com
SUMMARY:Back Handspring May Mini Session
DESCRIPTION:A fan-favorite skill! Athletes will work through targeted progressions and differentiated drills designed to safely build or improve their back handspring with faster\, more confident results. Thursdays 5:30-6:30 pm in May!\nDates:\nMay 7\nMay 14\nMay 21\nMay 26 \n  \n 
URL:https://dreamspiritcheer.com/event/back-handspring-may-mini-session/
CATEGORIES:Upcoming Events
ATTACH;FMTTYPE=image/png:https://dreamspiritcheer.com/wp-content/uploads/2026/04/ChatGPT-Image-Apr-3-2026-03_55_52-PM.png
END:VEVENT
END:VCALENDAR