BEGIN:VCALENDAR
VERSION:2.0
PRODID:-//Dream Spirit Cheer - ECPv6.15.20//NONSGML v1.0//EN
CALSCALE:GREGORIAN
METHOD:PUBLISH
X-ORIGINAL-URL:https://dreamspiritcheer.com
X-WR-CALDESC:Events for Dream Spirit Cheer
REFRESH-INTERVAL;VALUE=DURATION:PT1H
X-Robots-Tag:noindex
X-PUBLISHED-TTL:PT1H
BEGIN:VTIMEZONE
TZID:UTC
BEGIN:STANDARD
TZOFFSETFROM:+0000
TZOFFSETTO:+0000
TZNAME:UTC
DTSTART:20250101T000000
END:STANDARD
END:VTIMEZONE
BEGIN:VEVENT
DTSTART;TZID=UTC:20260503T130000
DTEND;TZID=UTC:20260503T140000
DTSTAMP:20260425T021108
CREATED:20260424T032959Z
LAST-MODIFIED:20260424T033003Z
UID:10000047-1777813200-1777816800@dreamspiritcheer.com
SUMMARY:Free Cheer Class!
DESCRIPTION:Ready to try cheer? 💖 \nJoin us for our Cheer Fundamentals (Intro to Cheer) class on May 3 from 1–2PM! \n✨ FREE to try before you register! \nThis beginner-friendly class is the perfect place to start. Athletes will learn the basics of cheer in a fun\, encouraging environment while building confidence and skills. \n✨ What we cover:\n• Motions & sharp arm placement\n• Jumps & flexibility\n• Beginner stunting basics\n• Intro to tumbling\n• Simple cheer & dance elements \nNo experience needed — just come ready to have fun\, make friends\, and see what Dream Spirit is all about 💫 \n  \n 
URL:https://dreamspiritcheer.com/event/free-cheer-class/
CATEGORIES:Upcoming Events
ATTACH;FMTTYPE=image/png:https://dreamspiritcheer.com/wp-content/uploads/2026/04/Copy-of-Cheer-Fundamentals-1.png
END:VEVENT
END:VCALENDAR