BEGIN:VCALENDAR
VERSION:2.0
PRODID:-//Dream Spirit Cheer - ECPv6.15.20//NONSGML v1.0//EN
CALSCALE:GREGORIAN
METHOD:PUBLISH
X-WR-CALNAME:Dream Spirit Cheer
X-ORIGINAL-URL:https://dreamspiritcheer.com
X-WR-CALDESC:Events for Dream Spirit Cheer
REFRESH-INTERVAL;VALUE=DURATION:PT1H
X-Robots-Tag:noindex
X-PUBLISHED-TTL:PT1H
BEGIN:VTIMEZONE
TZID:UTC
BEGIN:STANDARD
TZOFFSETFROM:+0000
TZOFFSETTO:+0000
TZNAME:UTC
DTSTART:20250101T000000
END:STANDARD
END:VTIMEZONE
BEGIN:VEVENT
DTSTART;TZID=UTC:20260606T170000
DTEND;TZID=UTC:20260607T200000
DTSTAMP:20260425T032724
CREATED:20260421T221051Z
LAST-MODIFIED:20260421T221055Z
UID:10000046-1780765200-1780862400@dreamspiritcheer.com
SUMMARY:Pink Palm Parade Camp! 🌴💗
DESCRIPTION:Get ready for the ultimate summer cheer experience! Join us for our Pink Palm Party Cheer Parade Camp — a fun\, high-energy night filled with cheering\, dancing\, games\, and making unforgettable memories 💫 \nDuring camp\, athletes will learn cheers and a dance to perform in the Bennington Daze Parade the very next day! Plus\, we’ll mix in fun team games and activities to keep the energy high and the smiles going all night long 💖 \n✨ Camp Details:\n📅 Friday\, June 5\n⏰ 5:00–8:00 PM \n🎉 Parade Performance:\n📅 June 6 (time TBA) \n💗 What’s Included:\n✔️ Pizza dinner\n✔️ Pink Palm Party tank\n✔️ Poms\n✔️ Bow\n✔️ Cheer\, dance\, and games \n💲 Cost: $69 \nSpots are limited\, and this is one of our most fun summer events! You won’t want to miss it! Grab your friends and come party with us 🌴✨ \n  \n 
URL:https://dreamspiritcheer.com/event/pink-palm-parade-camp-%f0%9f%8c%b4%f0%9f%92%97/
CATEGORIES:Upcoming Events
ATTACH;FMTTYPE=image/png:https://dreamspiritcheer.com/wp-content/uploads/2026/04/ChatGPT-Image-Apr-21-2026-05_02_57-PM.png
END:VEVENT
END:VCALENDAR